BEGIN:VCALENDAR
VERSION:2.0
PRODID:https://github.com/derhansen/sf_event_mgt
METHOD:PUBLISH
BEGIN:VEVENT
UID:213-227@www.friedrichsdorf.de
CLASS: PUBLIC
SUMMARY:Vorlesestunde
DESCRIPTION:Kinder von 3 bis 6 Jahren entdecken gemeinsam mit Sabine Coldeh
 off die Welt der Geschichten. Im Anschluss wird das gemeinsam Erzählte krea
 tiv gestaltet. Der Eintritt ist frei und eine Anmeldung ist nicht notwendig
 . 
LOCATION:Stadtbücherei Friedrichsdorf
DTSTAMP:20250930T143843Z
DTSTART:20251002T133000Z
DTEND:20251002T151100Z
END:VEVENT
END:VCALENDAR
