BEGIN:VCALENDAR
VERSION:2.0
PRODID:https://github.com/derhansen/sf_event_mgt
METHOD:PUBLISH
BEGIN:VEVENT
UID:530-227@www.friedrichsdorf.de
CLASS: PUBLIC
SUMMARY:Friedrichsdorfer Fahrradtag 2026
DESCRIPTION:Der Friedrichsdorfer Fahrradtag ist eine ehrenamtlich organisie
 rte Veranstaltung. Sie findet am 25.04.2026 im Sportpark Friedrichsdorf sta
 tt. Der Fahrradtag ist eine wunderbare Gelegenheit, das Fahrrad als umweltf
 reundliches, gesundheitsförderndes und praktisches Fortbewegungsmittel noch
  mehr in den Fokus zu rücken. Neben der Möglichkeit, auf unserer Fahrradbör
 se Fahrräder zu verkaufen und zu kaufen, gibt es eine Reihe spannender und 
 nützlicher Aktionen. Der Fahrradtag lebt von der Vielfalt der Beiträge und 
 vom Engagement vieler Beteiligter. Ein besonderer Fokus liegt erneut auf de
 r Verkehrssicherheit und auf Angeboten, die sich gezielt an unterschiedlich
 e Zielgruppen richten – von Kindern über Familien bis hin zu Seniorinnen un
 d Senioren.\n\nNähere Informationen unter www.bad-homburg.adfc.de/fahrradta
 g. Dort finden Sie auch das komplette Programm des Fahrradtages.
LOCATION:Sportpark Friedrichsdorf
DTSTAMP:20260325T123836Z
DTSTART:20260425T090000Z
DTEND:20260425T140000Z
END:VEVENT
END:VCALENDAR
