BEGIN:VCALENDAR
VERSION:2.0
PRODID:https://github.com/derhansen/sf_event_mgt
METHOD:PUBLISH
BEGIN:VEVENT
UID:131-227@www.friedrichsdorf.de
CLASS: PUBLIC
SUMMARY:Kleines Opern-Ensemble Hessen
DESCRIPTION:Broadway-Melodien und andere Hits\n\nViele berühmt gewordene Mu
 sicals wie Show Boat, My Fair Lady oder Das Phantom der Oper haben ihre Ura
 ufführung an den Broadway-Theatern New Yorks gefeiert. Das Kleine Opern-Ens
 emble Hessen bringt die beliebtesten Lieder dieser Musicals auf die Bühne. 
 Aber auch andere Ohrwürmer wie „New York, New York“ werden erklingen. Dabei
  werden die Sängerinnen und Sänger von der Pianistin Seung-Jo Cha begleitet
 , die auch das Orchester im Papageno Musiktheater am Palmengarten leitet. N
 iels Kaiser (hr2) moderiert den Abend unterhaltsam.\n\nMit: Anja Stader, So
 pran | Simone Garnier, Mezzosopran | Martin Kellenbenz, Tenor | Alexander W
 inn, Bariton | Seung-Jo Cha, Klavier | Niels Kaiser, Moderation\n\nDie Vera
 nstaltung wird im Rahmen der Sommerbrücke durchgeführt. Der Eintritt ist fr
 ei. Danke für Ihre Spenden! Hier können Sie online für die Sommerbrücke spe
 nden. 
LOCATION:Sportpark Friedrichsdorf
DTSTAMP:20250626T093818Z
DTSTART:20250817T163000Z
END:VEVENT
END:VCALENDAR
