BEGIN:VCALENDAR
VERSION:2.0
PRODID:https://github.com/derhansen/sf_event_mgt
METHOD:PUBLISH
BEGIN:VEVENT
UID:230-227@www.friedrichsdorf.de
CLASS: PUBLIC
SUMMARY:3. Friedrichsdorfer Lachnacht
DESCRIPTION:Die Moderation des Abends übernimmt auch in diesem Jahr wieder 
 der außergewöhnliche Kabarettist Frederic Hormuth. Er versucht in seinem So
 forthilfe-Programm zu retten, was zu retten ist. Und ganz oft trifft er den
  springenden Punkt so genau, dass auch das Zwerchfell vor Lachen zu hüpfen 
 beginnt. Im Gepäck hat er wieder eine Ladung der lustigsten Comedians und K
 abarettisten der Republik und der Abend verspricht auch diesmal, ein Feuerw
 erk der Kleinkunst zu werden! Die auserlesenen Gäste dieser Show sind Dave 
 Davis, der „Sunshine-Generator“ der deutschen Kabarett- und Comedy-Szene, h
 at sein als Liveshow getarntes Soforthilfepaket für Deutschland pickepackev
 oll geschnürt. Wir Menschen verstehen uns als die letzte Sprosse der Evolut
 ionsleiter, und das Leben könnte doch so einfach sein, wären da bloß nicht 
 all die anderen. Unsere Mitmenschen lassen unseren „Aggrozytenpegel“ in kri
 tische Höhen schnellen und wir eskalieren. Was nun? Untergang als Weg? Kris
 e als Devise? Kann man machen, muss man aber nicht. Oder vielleicht lieber 
 „Singing In The Rain“? Muss man nicht machen, sollte man aber! Sie wollen w
 issen wie? Dann erleben Sie Dave Davis live! Bernhard Westenberger ist „Der
  TeufelsGreis“. Ein Mann, der sich nach zwei Programmen rund um seine Famil
 ie die Frage stellt: Wo sind die denn auf einmal alle hin? Eines Morgens wa
 cht er bei strahlendem Sonnenschein auf und entdeckt die Stille im Haus. Ni
 emand schreit, niemand streitet, niemand macht Unordnung - bis auf ihn. Der
  TeufelsGreis ist eine Reise durch die Psyche eines Mannes, der plötzlich f
 eststellt, dass der Tag wieder 24 Stunden hat. Die Kinder sind aus dem Haus
 , die Rente ist sicher und das Ende des Jobs ist absehbar. Endlich wieder t
 un und lassen, was man will. Keine Verantwortung und Verpflichtung mehr. Al
 so kauft er sich einen Hund. Doch damit fangen die Probleme an.Florentine O
 sche wird chronisch unterschätzt - allerdings nie besonders lange. Sobald d
 ie gebürtige Berlinerin auf die Bühne kommt, überrascht die junge Künstleri
 n mit unerwartet schwarzem Humor. Obwohl sie erst seit zwei Jahren Teil der
  deutschsprachigen Comeydszene ist, hat sie neben unzähligen Auftritten ber
 eits einen eigenen Podcast, in dem sie auch über ernste Themen spricht. Jun
 g, frisch, überraschend. So geht Comedy heute!Boris Stijelja ist Kroate mit
  deutschem Migrationshintergrund: In Mannheim geboren wuchs er in Kroatien 
 auf. Tja: So geht’s auch... Jetzt ist er wieder hier und will wieder zurüc
 k. Bis er wieder dort ist und dann nach Hause möchte. Kurz: Er hat es nich
 t leicht. Sein deutsch-kroatisches Leben schwankt stets zwischen Cevapcici,
  Weinfest und Kehrwoche. In seinem Viertel gilt Deutsch als Fremdsprache - 
 da kommt Boris mit dem Integrieren gar nicht nach. Während sein Vater noch
  auf dem Bau arbeitete - für Boris ist das ganze Leben eine Baustelle. Er 
 stolpert durch die Kulturen und das Leben. Da kann beim Campen im Pfälzer 
 Wald schon mal die Feuerwehr anrücken, weil sich Sliwowitz nicht als Grill
 anzünder eignet. Boris kämpft auf humorvolle Weise mit sich, mit uns und 
 den Problemen des Alltags - aber: Er hat den Bürgerkrieg miterlebt und hä
 lt was aus.\n\nInfos zu Kartenkauf und AGBs\n\n\n\n
LOCATION:Forum Friedrichsdorf
DTSTAMP:20251015T145716Z
DTSTART:20260318T190000Z
DTEND:20260318T213000Z
END:VEVENT
END:VCALENDAR
